
BEGIN:VCALENDAR
VERSION:2.0
PRODID:-//HOLY MOTHER OF THE ROSARY CATHEDRAL - ECPv6.10.0//NONSGML v1.0//EN
CALSCALE:GREGORIAN
METHOD:PUBLISH
X-WR-CALNAME:HOLY MOTHER OF THE ROSARY CATHEDRAL
X-ORIGINAL-URL:https://www.holymotheroftherosary.org
X-WR-CALDESC:Events for HOLY MOTHER OF THE ROSARY CATHEDRAL
REFRESH-INTERVAL;VALUE=DURATION:PT1H
X-Robots-Tag:noindex
X-PUBLISHED-TTL:PT1H
BEGIN:VTIMEZONE
TZID:America/New_York
BEGIN:DAYLIGHT
TZOFFSETFROM:-0500
TZOFFSETTO:-0400
TZNAME:EDT
DTSTART:20260308T070000
END:DAYLIGHT
BEGIN:STANDARD
TZOFFSETFROM:-0400
TZOFFSETTO:-0500
TZNAME:EST
DTSTART:20261101T060000
END:STANDARD
END:VTIMEZONE
BEGIN:VEVENT
DTSTART;TZID=America/New_York:20260305T113000
DTEND;TZID=America/New_York:20260305T120000
DTSTAMP:20260421T152601
CREATED:20260226T191031Z
LAST-MODIFIED:20260226T191032Z
UID:4124-1772710200-1772712000@www.holymotheroftherosary.org
SUMMARY:Stations of the Cross
DESCRIPTION:
URL:https://www.holymotheroftherosary.org/event/stations-of-the-cross/
END:VEVENT
BEGIN:VEVENT
DTSTART;TZID=America/New_York:20260305T100000
DTEND;TZID=America/New_York:20260305T120000
DTSTAMP:20260421T152601
CREATED:20260213T162427Z
LAST-MODIFIED:20260213T162428Z
UID:4070-1772704800-1772712000@www.holymotheroftherosary.org
SUMMARY:Seniors Gathering
DESCRIPTION:
URL:https://www.holymotheroftherosary.org/event/seniors-gathering-8/
END:VEVENT
BEGIN:VEVENT
DTSTART;TZID=America/New_York:20260302T113000
DTEND;TZID=America/New_York:20260302T133000
DTSTAMP:20260421T152601
CREATED:20260213T155356Z
LAST-MODIFIED:20260213T155357Z
UID:4064-1772451000-1772458200@www.holymotheroftherosary.org
SUMMARY:Bingo
DESCRIPTION:
URL:https://www.holymotheroftherosary.org/event/bingo-7/
END:VEVENT
BEGIN:VEVENT
DTSTART;TZID=America/New_York:20260301T100000
DTEND;TZID=America/New_York:20260301T110000
DTSTAMP:20260421T152601
CREATED:20260213T150001Z
LAST-MODIFIED:20260213T150003Z
UID:4050-1772359200-1772362800@www.holymotheroftherosary.org
SUMMARY:Holy Mass
DESCRIPTION:
URL:https://www.holymotheroftherosary.org/event/holy-mass-12/
END:VEVENT
END:VCALENDAR